BEGIN:VCALENDAR
VERSION:2.0
PRODID:-//mallbangkok.com #ชีวิตติดห้าง แผนผังทุกห้างในไทย, ไดเร็กทอรี่ร้านในทุกห้างสรรพสินค้า ศูนย์การค้า คอมมูนิตี้มอลล์ - ECPv6.15.20//NONSGML v1.0//EN
CALSCALE:GREGORIAN
METHOD:PUBLISH
X-WR-CALNAME:mallbangkok.com #ชีวิตติดห้าง แผนผังทุกห้างในไทย, ไดเร็กทอรี่ร้านในทุกห้างสรรพสินค้า ศูนย์การค้า คอมมูนิตี้มอลล์
X-ORIGINAL-URL:https://www.mallbangkok.com
X-WR-CALDESC:Events for mallbangkok.com #ชีวิตติดห้าง แผนผังทุกห้างในไทย, ไดเร็กทอรี่ร้านในทุกห้างสรรพสินค้า ศูนย์การค้า คอมมูนิตี้มอลล์
REFRESH-INTERVAL;VALUE=DURATION:PT1H
X-Robots-Tag:noindex
X-PUBLISHED-TTL:PT1H
BEGIN:VTIMEZONE
TZID:Asia/Bangkok
BEGIN:STANDARD
TZOFFSETFROM:+0700
TZOFFSETTO:+0700
TZNAME:+07
DTSTART:20240101T000000
END:STANDARD
END:VTIMEZONE
BEGIN:VEVENT
DTSTART;TZID=Asia/Bangkok:20251128T100000
DTEND;TZID=Asia/Bangkok:20251201T220000
DTSTAMP:20260422T190429
CREATED:20251124T112816Z
LAST-MODIFIED:20251124T113206Z
UID:22079-1764324000-1764626400@www.mallbangkok.com
SUMMARY:EM DISTRICT ANNIVERSARY
DESCRIPTION:
URL:https://www.mallbangkok.com/mallevent/em-district-anniversary/
CATEGORIES:Seasonal Campaign
ATTACH;FMTTYPE=image/jpeg:https://www.mallbangkok.com/wp-content/uploads/2025/11/EM-DISTRICT-ANNIVERSARY.jpg
END:VEVENT
BEGIN:VEVENT
DTSTART;TZID=Asia/Bangkok:20250116T000000
DTEND;TZID=Asia/Bangkok:20250128T235959
DTSTAMP:20260422T190429
CREATED:20250116T021453Z
LAST-MODIFIED:20250116T021453Z
UID:15949-1736985600-1738108799@www.mallbangkok.com
SUMMARY:TOPS THE GREAT CHINESE NEW YEAR 2025
DESCRIPTION:
URL:https://www.mallbangkok.com/mallevent/tops-the-great-chinese-new-year-2025/
LOCATION:Tops
CATEGORIES:Seasonal Campaign
ATTACH;FMTTYPE=image/jpeg:https://www.mallbangkok.com/wp-content/uploads/2025/01/TOPS-THE-GREAT-CHINESE-NEW-YEAR-2025-scaled.jpg
END:VEVENT
END:VCALENDAR